BEGIN:VCALENDAR
VERSION:2.0
PRODID:-//Kirchhaldenschule Stuttgart-Botnang - ECPv6.15.20//NONSGML v1.0//EN
CALSCALE:GREGORIAN
METHOD:PUBLISH
X-ORIGINAL-URL:https://kirchhaldenschule-botnang.de
X-WR-CALDESC:Veranstaltungen für Kirchhaldenschule Stuttgart-Botnang
REFRESH-INTERVAL;VALUE=DURATION:PT1H
X-Robots-Tag:noindex
X-PUBLISHED-TTL:PT1H
BEGIN:VTIMEZONE
TZID:Europe/Berlin
BEGIN:DAYLIGHT
TZOFFSETFROM:+0100
TZOFFSETTO:+0200
TZNAME:CEST
DTSTART:20250330T010000
END:DAYLIGHT
BEGIN:STANDARD
TZOFFSETFROM:+0200
TZOFFSETTO:+0100
TZNAME:CET
DTSTART:20251026T010000
END:STANDARD
BEGIN:DAYLIGHT
TZOFFSETFROM:+0100
TZOFFSETTO:+0200
TZNAME:CEST
DTSTART:20260329T010000
END:DAYLIGHT
BEGIN:STANDARD
TZOFFSETFROM:+0200
TZOFFSETTO:+0100
TZNAME:CET
DTSTART:20261025T010000
END:STANDARD
BEGIN:DAYLIGHT
TZOFFSETFROM:+0100
TZOFFSETTO:+0200
TZNAME:CEST
DTSTART:20270328T010000
END:DAYLIGHT
BEGIN:STANDARD
TZOFFSETFROM:+0200
TZOFFSETTO:+0100
TZNAME:CET
DTSTART:20271031T010000
END:STANDARD
END:VTIMEZONE
BEGIN:VEVENT
DTSTART;TZID=Europe/Berlin:20260703T143000
DTEND;TZID=Europe/Berlin:20260703T170000
DTSTAMP:20260420T144814
CREATED:20250918T083709Z
LAST-MODIFIED:20250918T084040Z
UID:987582824-1783089000-1783098000@kirchhaldenschule-botnang.de
SUMMARY:Sommerfest
DESCRIPTION:Termin vorbehaltlich!
URL:https://kirchhaldenschule-botnang.de/termin/sommerfest/
END:VEVENT
BEGIN:VEVENT
DTSTART;TZID=Europe/Berlin:20260724T084500
DTEND;TZID=Europe/Berlin:20260724T122500
DTSTAMP:20260420T144814
CREATED:20250918T083739Z
LAST-MODIFIED:20250918T083739Z
UID:987582826-1784882700-1784895900@kirchhaldenschule-botnang.de
SUMMARY:Zeugnisausgabe
DESCRIPTION:
URL:https://kirchhaldenschule-botnang.de/termin/zeugnisausgabe-2/
END:VEVENT
BEGIN:VEVENT
DTSTART;TZID=Europe/Berlin:20260728T110000
DTEND;TZID=Europe/Berlin:20260728T120000
DTSTAMP:20260420T144814
CREATED:20250918T083823Z
LAST-MODIFIED:20260326T091630Z
UID:987582828-1785236400-1785240000@kirchhaldenschule-botnang.de
SUMMARY:Schuljahresabschluss-Gottesdienst Nikodemuskirche
DESCRIPTION:
URL:https://kirchhaldenschule-botnang.de/termin/schuljahresabschluss-gottesdienst/
END:VEVENT
BEGIN:VEVENT
DTSTART;TZID=Europe/Berlin:20260729T100000
DTEND;TZID=Europe/Berlin:20260729T112000
DTSTAMP:20260420T144814
CREATED:20250918T083850Z
LAST-MODIFIED:20250918T083902Z
UID:987582830-1785319200-1785324000@kirchhaldenschule-botnang.de
SUMMARY:Abschied 4er
DESCRIPTION:
URL:https://kirchhaldenschule-botnang.de/termin/abschied-4er/
END:VEVENT
END:VCALENDAR